BEGIN:VCALENDAR
VERSION:2.0
PRODID:-//Tukios.com/
BEGIN:VEVENT
UID:b3a5e5c9-345d-497b-b195-63e5eda8fb7b@www.goebelfuneralhome.com
DTSTAMP:20260420T193348Z
DTSTART:20260422T170000Z
DTEND:20260422T180000Z
SUMMARY:Funeral Service
DESCRIPTION:
URL:https://www.goebelfuneralhome.com/obituaries/roger-dusenberry
LOCATION: 36 North Buckeye St  Crooksville OH 43731
GEO:39.7715719;-82.1000442
END:VEVENT
END:VCALENDAR