BEGIN:VCALENDAR
VERSION:2.0
PRODID:-//Tukios.com/
BEGIN:VEVENT
UID:d83323e6-4959-41e6-9972-077c76b71a10@www.goebelfuneralhome.com
DTSTAMP:20260420T193537Z
DTSTART:20260422T150000Z
DTEND:20260422T170000Z
SUMMARY:Visitation
DESCRIPTION:
URL:https://www.goebelfuneralhome.com/obituaries/roger-dusenberry
LOCATION: 36 North Buckeye St  Crooksville OH 43731
GEO:39.7715719;-82.1000442
END:VEVENT
END:VCALENDAR